BEGIN:VCALENDAR
VERSION:2.0
PRODID:-//Custer Rod and Gun Club - ECPv6.0.6.2//NONSGML v1.0//EN
CALSCALE:GREGORIAN
METHOD:PUBLISH
X-WR-CALNAME:Custer Rod and Gun Club
X-ORIGINAL-URL:https://custerrodandgun.com/wordpress
X-WR-CALDESC:Events for Custer Rod and Gun Club
REFRESH-INTERVAL;VALUE=DURATION:PT1H
X-Robots-Tag:noindex
X-PUBLISHED-TTL:PT1H
BEGIN:VTIMEZONE
TZID:America/Los_Angeles
BEGIN:DAYLIGHT
TZOFFSETFROM:-0800
TZOFFSETTO:-0700
TZNAME:PDT
DTSTART:20230312T100000
END:DAYLIGHT
BEGIN:STANDARD
TZOFFSETFROM:-0700
TZOFFSETTO:-0800
TZNAME:PST
DTSTART:20231105T090000
END:STANDARD
END:VTIMEZONE
BEGIN:VEVENT
DTSTART;TZID=America/Los_Angeles:20230715T130000
DTEND;TZID=America/Los_Angeles:20230715T170000
DTSTAMP:20260424T062914
CREATED:20230601T142958Z
LAST-MODIFIED:20230601T142958Z
UID:4474-1689426000-1689440400@custerrodandgun.com
SUMMARY:SASS Cowboy Action Match – 1pm
DESCRIPTION:Check-out the Club Activities page for SASS Cowboy Action Shooting for more Information \nContact Randy Hart for more Information at 406-232-0727 \nA Blackpowder Shoot will be held in the morning at 10am \nCheck Facebook for Updates \nMembers $5.00\nNon-members $10.00
URL:https://custerrodandgun.com/wordpress/event/sass-cowboy-action-match-1pm-3/
LOCATION:CR&GC Sunday Creek Range\, 181 Wednesday Dr.\, Miles City\, MT\, 59301\, United States
ORGANIZER;CN="CUSTER%20ROD%20%26%20GUN%20CLUB":MAILTO:email@custerrodandgun.com
END:VEVENT
END:VCALENDAR