BEGIN:VCALENDAR
VERSION:2.0
PRODID:-//Custer Rod and Gun Club - ECPv6.0.6.2//NONSGML v1.0//EN
CALSCALE:GREGORIAN
METHOD:PUBLISH
X-WR-CALNAME:Custer Rod and Gun Club
X-ORIGINAL-URL:https://custerrodandgun.com/wordpress
X-WR-CALDESC:Events for Custer Rod and Gun Club
REFRESH-INTERVAL;VALUE=DURATION:PT1H
X-Robots-Tag:noindex
X-PUBLISHED-TTL:PT1H
BEGIN:VTIMEZONE
TZID:America/Denver
BEGIN:DAYLIGHT
TZOFFSETFROM:-0700
TZOFFSETTO:-0600
TZNAME:MDT
DTSTART:20230312T090000
END:DAYLIGHT
BEGIN:STANDARD
TZOFFSETFROM:-0600
TZOFFSETTO:-0700
TZNAME:MST
DTSTART:20231105T080000
END:STANDARD
END:VTIMEZONE
BEGIN:VEVENT
DTSTART;TZID=America/Denver:20230810T180000
DTEND;TZID=America/Denver:20230810T200000
DTSTAMP:20260424T031423
CREATED:20230805T152314Z
LAST-MODIFIED:20230805T152314Z
UID:4630-1691690400-1691697600@custerrodandgun.com
SUMMARY:Action Pistol 6pm
DESCRIPTION:Weather Dependent \nCheck-out the Action Pistol Page for more Information \nCheck Facebook for Updates \n$5/Members – $10/Non-members \nShow up early to help set-up
URL:https://custerrodandgun.com/wordpress/event/action-pistol-6pm-25/
LOCATION:CR&GC Sunday Creek Range\, 181 Wednesday Dr.\, Miles City\, MT\, 59301\, United States
ORGANIZER;CN="CUSTER%20ROD%20%26%20GUN%20CLUB":MAILTO:email@custerrodandgun.com
END:VEVENT
END:VCALENDAR