BEGIN:VCALENDAR
VERSION:2.0
PRODID:-//Custer Rod and Gun Club - ECPv6.0.6.2//NONSGML v1.0//EN
CALSCALE:GREGORIAN
METHOD:PUBLISH
X-ORIGINAL-URL:https://custerrodandgun.com/wordpress
X-WR-CALDESC:Events for Custer Rod and Gun Club
REFRESH-INTERVAL;VALUE=DURATION:PT1H
X-Robots-Tag:noindex
X-PUBLISHED-TTL:PT1H
BEGIN:VTIMEZONE
TZID:America/Denver
BEGIN:DAYLIGHT
TZOFFSETFROM:-0700
TZOFFSETTO:-0600
TZNAME:MDT
DTSTART:20230312T090000
END:DAYLIGHT
BEGIN:STANDARD
TZOFFSETFROM:-0600
TZOFFSETTO:-0700
TZNAME:MST
DTSTART:20231105T080000
END:STANDARD
TZID:America/Los_Angeles
BEGIN:DAYLIGHT
TZOFFSETFROM:-0800
TZOFFSETTO:-0700
TZNAME:PDT
DTSTART:20230312T100000
END:DAYLIGHT
BEGIN:STANDARD
TZOFFSETFROM:-0700
TZOFFSETTO:-0800
TZNAME:PST
DTSTART:20231105T090000
END:STANDARD
END:VTIMEZONE
BEGIN:VEVENT
DTSTART;TZID=America/Denver:20230815T173000
DTEND;TZID=America/Denver:20230815T193000
DTSTAMP:20260424T031610
CREATED:20230805T151329Z
LAST-MODIFIED:20230805T151329Z
UID:4604-1692120600-1692127800@custerrodandgun.com
SUMMARY:Trap 5:30pm
DESCRIPTION:Weather Dependent \nCheck out Club Trap & Skeet Webpage for more information \nCheck Facebook for Updates \n$4/Members – $5/Non-members
URL:https://custerrodandgun.com/wordpress/event/trap-530pm-22/
LOCATION:Spotted Eagle Recreation Area\, Spotted Eagle Road\, Miles City\, MT\, 59301\, United States
ORGANIZER;CN="CUSTER%20ROD%20%26%20GUN%20CLUB":MAILTO:email@custerrodandgun.com
END:VEVENT
BEGIN:VEVENT
DTSTART;TZID=America/Los_Angeles:20230815T190000
DTEND;TZID=America/Los_Angeles:20230815T200000
DTSTAMP:20260424T031610
CREATED:20230414T141254Z
LAST-MODIFIED:20230417T021349Z
UID:4348-1692126000-1692129600@custerrodandgun.com
SUMMARY:Board of Directors Meeting 7pm
DESCRIPTION:The Board of Directors meet at 7:00 PM on the third Tuesday of each month (Feb. – Dec.) \nThough only members of Board of Directors can introduce or vote on a motion at the monthly Board meetings\, all club members are welcomed and encouraged to attend meetings. Any member with concerns or comments will be provided opportunity to speak at these meetings. The Board always seeks the opinion of and direction from club members.
URL:https://custerrodandgun.com/wordpress/event/board-of-directors-meeting-7pm-6/
LOCATION:Spotted Eagle Recreation Area\, Spotted Eagle Road\, Miles City\, MT\, 59301\, United States
ORGANIZER;CN="CUSTER%20ROD%20%26%20GUN%20CLUB":MAILTO:email@custerrodandgun.com
END:VEVENT
END:VCALENDAR