BEGIN:VCALENDAR
VERSION:2.0
PRODID:-//Custer Rod and Gun Club - ECPv6.0.6.2//NONSGML v1.0//EN
CALSCALE:GREGORIAN
METHOD:PUBLISH
X-WR-CALNAME:Custer Rod and Gun Club
X-ORIGINAL-URL:https://custerrodandgun.com/wordpress
X-WR-CALDESC:Events for Custer Rod and Gun Club
REFRESH-INTERVAL;VALUE=DURATION:PT1H
X-Robots-Tag:noindex
X-PUBLISHED-TTL:PT1H
BEGIN:VTIMEZONE
TZID:America/Denver
BEGIN:DAYLIGHT
TZOFFSETFROM:-0700
TZOFFSETTO:-0600
TZNAME:MDT
DTSTART:20230312T090000
END:DAYLIGHT
BEGIN:STANDARD
TZOFFSETFROM:-0600
TZOFFSETTO:-0700
TZNAME:MST
DTSTART:20231105T080000
END:STANDARD
END:VTIMEZONE
BEGIN:VEVENT
DTSTART;TZID=America/Denver:20230926T173000
DTEND;TZID=America/Denver:20230926T193000
DTSTAMP:20260423T221813
CREATED:20230805T151720Z
LAST-MODIFIED:20230805T151720Z
UID:4616-1695749400-1695756600@custerrodandgun.com
SUMMARY:Trap 5:30pm
DESCRIPTION:Weather Dependent \nCheck out Club Trap & Skeet Webpage for more information \nCheck Facebook for Updates \n$4/Members – $5/Non-members
URL:https://custerrodandgun.com/wordpress/event/trap-530pm-28/
LOCATION:Spotted Eagle Recreation Area\, Spotted Eagle Road\, Miles City\, MT\, 59301\, United States
ORGANIZER;CN="CUSTER%20ROD%20%26%20GUN%20CLUB":MAILTO:email@custerrodandgun.com
END:VEVENT
END:VCALENDAR