BEGIN:VCALENDAR
VERSION:2.0
PRODID:-//Custer Rod and Gun Club - ECPv6.0.6.2//NONSGML v1.0//EN
CALSCALE:GREGORIAN
METHOD:PUBLISH
X-WR-CALNAME:Custer Rod and Gun Club
X-ORIGINAL-URL:https://custerrodandgun.com/wordpress
X-WR-CALDESC:Events for Custer Rod and Gun Club
REFRESH-INTERVAL;VALUE=DURATION:PT1H
X-Robots-Tag:noindex
X-PUBLISHED-TTL:PT1H
BEGIN:VTIMEZONE
TZID:America/Los_Angeles
BEGIN:DAYLIGHT
TZOFFSETFROM:-0800
TZOFFSETTO:-0700
TZNAME:PDT
DTSTART:20240310T100000
END:DAYLIGHT
BEGIN:STANDARD
TZOFFSETFROM:-0700
TZOFFSETTO:-0800
TZNAME:PST
DTSTART:20241103T090000
END:STANDARD
END:VTIMEZONE
BEGIN:VEVENT
DTSTART;TZID=America/Los_Angeles:20240711T180000
DTEND;TZID=America/Los_Angeles:20240711T183000
DTSTAMP:20260423T053319
CREATED:20240421T140411Z
LAST-MODIFIED:20240421T140411Z
UID:4844-1720720800-1720722600@custerrodandgun.com
SUMMARY:Steel Challenge 6pm
DESCRIPTION:Check-out the Action Pistol Page for more Information – Check Facebook for Updates \nMembers $5.00\nNon-members $10.00
URL:https://custerrodandgun.com/wordpress/event/steel-challenge-6pm-6/
LOCATION:CR&GC Sunday Creek Range\, 181 Wednesday Dr.\, Miles City\, MT\, 59301\, United States
ORGANIZER;CN="CUSTER%20ROD%20%26%20GUN%20CLUB":MAILTO:email@custerrodandgun.com
END:VEVENT
BEGIN:VEVENT
DTSTART;TZID=America/Los_Angeles:20240717T190000
DTEND;TZID=America/Los_Angeles:20240717T200000
DTSTAMP:20260423T053319
CREATED:20240123T022336Z
LAST-MODIFIED:20240123T022511Z
UID:4698-1721242800-1721246400@custerrodandgun.com
SUMMARY:Board of Directors Meeting 7pm
DESCRIPTION:The Board of Directors meet at 7:00 PM on the third Wednesday of each month \nThough only members of Board of Directors can introduce or vote on a motion at the monthly Board meetings\, all club members are welcomed and encouraged to attend meetings. Any member with concerns or comments will be provided opportunity to speak at these meetings. The Board always seeks the opinion of and direction from club members.
URL:https://custerrodandgun.com/wordpress/event/board-of-directors-meeting-7pm-16/
LOCATION:Spotted Eagle Recreation Area\, Spotted Eagle Road\, Miles City\, MT\, 59301\, United States
ORGANIZER;CN="CUSTER%20ROD%20%26%20GUN%20CLUB":MAILTO:email@custerrodandgun.com
END:VEVENT
BEGIN:VEVENT
DTSTART;TZID=America/Los_Angeles:20240718T180000
DTEND;TZID=America/Los_Angeles:20240718T200000
DTSTAMP:20260423T053319
CREATED:20240718T121743Z
LAST-MODIFIED:20240718T121743Z
UID:4896-1721325600-1721332800@custerrodandgun.com
SUMMARY:Action Pistol 6pm
DESCRIPTION:Check-out the Action Pistol Page for more Information – Check Facebook for Updates \nMembers $5.00\nNon-members $10.00
URL:https://custerrodandgun.com/wordpress/event/action-pistol-6pm-41/
LOCATION:CR&GC Sunday Creek Range\, 181 Wednesday Dr.\, Miles City\, MT\, 59301\, United States
ORGANIZER;CN="CUSTER%20ROD%20%26%20GUN%20CLUB":MAILTO:email@custerrodandgun.com
END:VEVENT
BEGIN:VEVENT
DTSTART;TZID=America/Los_Angeles:20240720T080000
DTEND;TZID=America/Los_Angeles:20240720T120000
DTSTAMP:20260423T053319
CREATED:20240718T123043Z
LAST-MODIFIED:20240718T123043Z
UID:4934-1721462400-1721476800@custerrodandgun.com
SUMMARY:3D Archery 8am
DESCRIPTION:Contact Jason Sibble for more information 406-868-0022 \nCheck Facebook for updates
URL:https://custerrodandgun.com/wordpress/event/3d-archery-8am/
LOCATION:Spotted Eagle Recreation Area\, Spotted Eagle Road\, Miles City\, MT\, 59301\, United States
ORGANIZER;CN="CUSTER%20ROD%20%26%20GUN%20CLUB":MAILTO:email@custerrodandgun.com
END:VEVENT
BEGIN:VEVENT
DTSTART;TZID=America/Los_Angeles:20240721T150000
DTEND;TZID=America/Los_Angeles:20240721T170000
DTSTAMP:20260423T053319
CREATED:20240718T122551Z
LAST-MODIFIED:20240718T122710Z
UID:4920-1721574000-1721581200@custerrodandgun.com
SUMMARY:Skeet 3pm
DESCRIPTION:Weather Dependent – Check Facebook for Updates \n$4/Members – $5/Non-members
URL:https://custerrodandgun.com/wordpress/event/skeet-3pm-40/
LOCATION:Spotted Eagle Recreation Area\, Spotted Eagle Road\, Miles City\, MT\, 59301\, United States
ORGANIZER;CN="CUSTER%20ROD%20%26%20GUN%20CLUB":MAILTO:email@custerrodandgun.com
END:VEVENT
BEGIN:VEVENT
DTSTART;TZID=America/Los_Angeles:20240723T170000
DTEND;TZID=America/Los_Angeles:20240723T190000
DTSTAMP:20260423T053319
CREATED:20240718T122208Z
LAST-MODIFIED:20240718T122208Z
UID:4908-1721754000-1721761200@custerrodandgun.com
SUMMARY:Trap 5pm
DESCRIPTION:Weather Dependent – Check Facebook for Updates \n$4/Members – $5/Non-members
URL:https://custerrodandgun.com/wordpress/event/trap-5pm-14/
LOCATION:Spotted Eagle Recreation Area\, Spotted Eagle Road\, Miles City\, MT\, 59301\, United States
ORGANIZER;CN="CUSTER%20ROD%20%26%20GUN%20CLUB":MAILTO:email@custerrodandgun.com
END:VEVENT
BEGIN:VEVENT
DTSTART;TZID=America/Los_Angeles:20240725T180000
DTEND;TZID=America/Los_Angeles:20240725T200000
DTSTAMP:20260423T053319
CREATED:20240718T121821Z
LAST-MODIFIED:20240718T121821Z
UID:4898-1721930400-1721937600@custerrodandgun.com
SUMMARY:Action Pistol 6pm
DESCRIPTION:Check-out the Action Pistol Page for more Information – Check Facebook for Updates \nMembers $5.00\nNon-members $10.00
URL:https://custerrodandgun.com/wordpress/event/action-pistol-6pm-42/
LOCATION:CR&GC Sunday Creek Range\, 181 Wednesday Dr.\, Miles City\, MT\, 59301\, United States
ORGANIZER;CN="CUSTER%20ROD%20%26%20GUN%20CLUB":MAILTO:email@custerrodandgun.com
END:VEVENT
BEGIN:VEVENT
DTSTART;TZID=America/Los_Angeles:20240727T080000
DTEND;TZID=America/Los_Angeles:20240727T120000
DTSTAMP:20260423T053319
CREATED:20240718T123104Z
LAST-MODIFIED:20240718T123104Z
UID:4936-1722067200-1722081600@custerrodandgun.com
SUMMARY:3D Archery
DESCRIPTION:Contact Jason Sibble for more information 406-868-0022 \nCheck Facebook for updates
URL:https://custerrodandgun.com/wordpress/event/3d-archery/
LOCATION:Spotted Eagle Recreation Area\, Spotted Eagle Road\, Miles City\, MT\, 59301\, United States
ORGANIZER;CN="CUSTER%20ROD%20%26%20GUN%20CLUB":MAILTO:email@custerrodandgun.com
END:VEVENT
BEGIN:VEVENT
DTSTART;TZID=America/Los_Angeles:20240728T150000
DTEND;TZID=America/Los_Angeles:20240728T170000
DTSTAMP:20260423T053319
CREATED:20240718T122617Z
LAST-MODIFIED:20240718T122650Z
UID:4922-1722178800-1722186000@custerrodandgun.com
SUMMARY:Skeet 3pm
DESCRIPTION:Weather Dependent – Check Facebook for Updates \n$4/Members – $5/Non-members
URL:https://custerrodandgun.com/wordpress/event/skeet-3pm-41/
LOCATION:Spotted Eagle Recreation Area\, Spotted Eagle Road\, Miles City\, MT\, 59301\, United States
ORGANIZER;CN="CUSTER%20ROD%20%26%20GUN%20CLUB":MAILTO:email@custerrodandgun.com
END:VEVENT
BEGIN:VEVENT
DTSTART;TZID=America/Los_Angeles:20240730T170000
DTEND;TZID=America/Los_Angeles:20240730T190000
DTSTAMP:20260423T053319
CREATED:20240718T122234Z
LAST-MODIFIED:20240718T122234Z
UID:4910-1722358800-1722366000@custerrodandgun.com
SUMMARY:Trap 5pm
DESCRIPTION:Weather Dependent – Check Facebook for Updates \n$4/Members – $5/Non-members
URL:https://custerrodandgun.com/wordpress/event/trap-5pm-15/
LOCATION:Spotted Eagle Recreation Area\, Spotted Eagle Road\, Miles City\, MT\, 59301\, United States
ORGANIZER;CN="CUSTER%20ROD%20%26%20GUN%20CLUB":MAILTO:email@custerrodandgun.com
END:VEVENT
END:VCALENDAR